BEGIN:VCALENDAR
VERSION:2.0
PRODID:-//ChamberMaster//Event Calendar 2.0//EN
METHOD:PUBLISH
X-PUBLISHED-TTL:P3D
REFRESH-INTERVAL:P3D
CALSCALE:GREGORIAN
BEGIN:VEVENT
DTSTART:20220618T230000Z
DTEND:20220619T013000Z
X-MICROSOFT-CDO-ALLDAYEVENT:FALSE
SUMMARY:Community Event - Downtown Lisle Car Show
DESCRIPTION:These fun and family-friendly events are the perfect way to enjoy warm\, summer nights. During events\, Main Street\, Burlington Avenue and a portion of the Commuter Parking Lots are transformed into a block party where unique cars are displayed. Enjoy music\, food\, beverages\, prizes\, raffles and more.
X-ALT-DESC;FMTTYPE=text/html:These fun and family-friendly events are the perfect way to enjoy warm\, summer nights. During events\, Main Street\, Burlington Avenue and a portion of the Commuter Parking Lots are transformed into a block party where unique cars are displayed. Enjoy music\, food\, beverages\, prizes\, raffles and more.
LOCATION:
UID:e.27.14170
SEQUENCE:3
DTSTAMP:20260420T201026Z
URL:http://business.lislechamber.com/events/details/community-event-downtown-lisle-car-show-14170
END:VEVENT

END:VCALENDAR
