BEGIN:VCALENDAR
VERSION:2.0
PRODID:-//ChamberMaster//Event Calendar 2.0//EN
METHOD:PUBLISH
X-PUBLISHED-TTL:P3D
REFRESH-INTERVAL:P3D
CALSCALE:GREGORIAN
BEGIN:VEVENT
DTSTART:20220129T003000Z
DTEND:20220129T023000Z
X-MICROSOFT-CDO-ALLDAYEVENT:FALSE
SUMMARY:Community Event - Community Workshop: Your Mind Matters\; Parent + Teen Guide
DESCRIPTION:Your Story Counseling is offering a one-day workshop designed to support teens and their parents to learn how to cope with the prevailing school stressors and anxieties they face throughout the year by applying critical life skills and mindful techniques. Our purpose is to bring teens and parents together in a novel way that allows them to discover\, with our therapists\, various social and emotional practices they can apply together or separately moving forward.
X-ALT-DESC;FMTTYPE=text/html:Your Story Counseling is offering a one-day workshop designed to support teens and their parents to learn how to cope with the prevailing school stressors and anxieties they face throughout the year by applying critical life skills and mindful techniques. Our purpose is to bring teens and parents together in a novel way that allows them to discover\, with our therapists\, various social and emotional practices they can apply together or separately moving forward.
LOCATION:*Workshop will be held in person at Your Story Counseling\, 4745 Main Street\, Suite 207\, Lisle.
UID:e.27.14050
SEQUENCE:3
DTSTAMP:20260421T053258Z
URL:http://business.lislechamber.com/events/details/community-event-community-workshop-your-mind-matters-parent-teen-guide-14050
END:VEVENT

END:VCALENDAR
