BEGIN:VCALENDAR
VERSION:2.0
PRODID:-//ChamberMaster//Event Calendar 2.0//EN
METHOD:PUBLISH
X-PUBLISHED-TTL:P3D
REFRESH-INTERVAL:P3D
CALSCALE:GREGORIAN
BEGIN:VEVENT
DTSTART:20211030T170000Z
DTEND:20211030T220000Z
X-MICROSOFT-CDO-ALLDAYEVENT:FALSE
SUMMARY:Community Event - Blake-Lamb Funeral Home Trunk or Treat and Fall Festival
DESCRIPTION:Join us at Blake-Lamb Funeral Home on Saturday\, October 30th from 12pm-5pm for our first Trunk or Treat and Fall Festival! There will be pumpkin decorating\, carnival games\, a pet parade\, costume contests\, car-decorating contests\, and more! Pre-registration is required for families wishing to decorate a car. Call for more details!
X-ALT-DESC;FMTTYPE=text/html:Join us at Blake-Lamb Funeral Home on Saturday\, October 30th from 12pm-5pm for our first Trunk or Treat and Fall Festival! There will be pumpkin decorating\, carnival games\, a pet parade\, costume contests\, car-decorating contests\, and more! Pre-registration is required for families wishing to decorate a car. Call for more details!
LOCATION:Blake-Lamb Funeral Home 5015 Lincoln Ave Lisle\, Il 60532
UID:e.27.14016
SEQUENCE:3
DTSTAMP:20260421T083957Z
URL:http://business.lislechamber.com/events/details/community-event-blake-lamb-funeral-home-trunk-or-treat-and-fall-festival-14016
END:VEVENT

END:VCALENDAR
