BEGIN:VCALENDAR
VERSION:2.0
PRODID:-//ChamberMaster//Event Calendar 2.0//EN
METHOD:PUBLISH
X-PUBLISHED-TTL:P3D
REFRESH-INTERVAL:P3D
CALSCALE:GREGORIAN
BEGIN:VEVENT
DTSTART:20220330T170000Z
DTEND:20220330T180000Z
X-MICROSOFT-CDO-ALLDAYEVENT:FALSE
SUMMARY:Community Event - BankFinancial Retirement Plan Options for Your Business
DESCRIPTION:Retirement plan options for your business can be confusing. Join us to learn about the different types of retirement plans available for your business. We will explore what is the best plan for you based on your company size and also potential tax implications. We will review the best ways to attract and retain the best employees. In this webinar we will discuss:   What are the different types of retirement plans?   SIMPLE IRA Plans   SEP Plans   Solo(k)   401(k)   Cash Balance DB Plans   What is the best type for each business?   How much can you save?   What are the potential tax savings?   How Employees feel about the different types of plans
X-ALT-DESC;FMTTYPE=text/html:Retirement plan options for your business can be confusing. Join us to learn about the different types of retirement plans available for your business. We will explore what is the best plan for you based on your company size and also potential tax implications. We will review the best ways to attract and retain the best employees. In this webinar we will discuss: &bull\; What are the different types of retirement plans? &bull\; SIMPLE IRA Plans &bull\; SEP Plans &bull\; Solo(k) &bull\; 401(k) &bull\; Cash Balance DB Plans &bull\; What is the best type for each business? &bull\; How much can you save? &bull\; What are the potential tax savings? &bull\; How Employees feel about the different types of plans
LOCATION:Webinar: https://www.eventbrite.com/e/attracting-retaining-top-talent-tickets-272954222427
UID:e.27.14102
SEQUENCE:3
DTSTAMP:20260421T005402Z
URL:http://business.lislechamber.com/events/details/community-event-bankfinancial-retirement-plan-options-for-your-business-14102
END:VEVENT

END:VCALENDAR
