BEGIN:VCALENDAR
VERSION:2.0
PRODID:-//ChamberMaster//Event Calendar 2.0//EN
METHOD:PUBLISH
X-PUBLISHED-TTL:P3D
REFRESH-INTERVAL:P3D
CALSCALE:GREGORIAN
BEGIN:VEVENT
DTSTART:20220722T000000Z
DTEND:20220722T010000Z
X-MICROSOFT-CDO-ALLDAYEVENT:FALSE
SUMMARY:Community Event - Attune & Attend (trauma informed yoga class)
DESCRIPTION:Group Offering Provided by Your Story Counseling. Trauma (whether acute or complex) doesn?t just affect the mind\; it can also be held in the body. By incorporating trauma-informed practices\, we bring the body into therapy so individuals can begin to build a sense of safety and healing. The approach of our Attune + Attend group is to address the trauma and anxiety stored in the body. To offer relief from body-based symptoms and promote relaxation through a unique blend of physical and emotional interventions. This trauma-informed yoga class is led by Therapist + Trained Yoga Instructor\, Angie Young LCSW\, RYT200.
X-ALT-DESC;FMTTYPE=text/html:Group Offering Provided by Your Story Counseling. Trauma (whether acute or complex) doesn?t just affect the mind\; it can also be held in the body. By incorporating trauma-informed practices\, we bring the body into therapy so individuals can begin to build a sense of safety and healing. The approach of our Attune + Attend group is to address the trauma and anxiety stored in the body. To offer relief from body-based symptoms and promote relaxation through a unique blend of physical and emotional interventions. This trauma-informed yoga class is led by Therapist + Trained Yoga Instructor\, Angie Young LCSW\, RYT200.
LOCATION:Your Story Counseling 4745 Main St. #207 Main St. Lisle\, Il.
UID:e.27.14151
SEQUENCE:3
DTSTAMP:20260420T182806Z
URL:http://business.lislechamber.com/events/details/community-event-attune-attend-trauma-informed-yoga-class-07-21-2022-14151
END:VEVENT

END:VCALENDAR
