BEGIN:VCALENDAR
VERSION:2.0
PRODID:-//ChamberMaster//Event Calendar 2.0//EN
METHOD:PUBLISH
X-PUBLISHED-TTL:P3D
REFRESH-INTERVAL:P3D
CALSCALE:GREGORIAN
BEGIN:VEVENT
DTSTART:20220616T231500Z
DTEND:20220617T003000Z
X-MICROSOFT-CDO-ALLDAYEVENT:FALSE
SUMMARY:Community Event - Abraham Lincoln Portrayal
DESCRIPTION:Come hear Abraham Lincoln himself tell the story of how both he and Illinois rose from obscurity to greatness. (outside event) bring snacks and lawn chairs
X-ALT-DESC;FMTTYPE=text/html:Come hear Abraham Lincoln himself tell the story of how both he and Illinois rose from obscurity to greatness. (outside event) bring snacks and lawn chairs
LOCATION:Museums at Lisle Station Park
UID:e.27.14159
SEQUENCE:3
DTSTAMP:20260420T213132Z
URL:http://business.lislechamber.com/events/details/community-event-abraham-lincoln-portrayal-14159
END:VEVENT

END:VCALENDAR
