BEGIN:VCALENDAR
VERSION:2.0
PRODID:-//ChamberMaster//Event Calendar 2.0//EN
METHOD:PUBLISH
X-PUBLISHED-TTL:P3D
REFRESH-INTERVAL:P3D
CALSCALE:GREGORIAN
BEGIN:VEVENT
DTSTART:20220612T150000Z
DTEND:20220612T210000Z
X-MICROSOFT-CDO-ALLDAYEVENT:FALSE
SUMMARY:Community Event - 20th Annual Garden Gait
DESCRIPTION:Lisle Woman's Club\n\n20th Annual Garden Gait\n\n\n\nSunday\, June 12\, 2022\n\n\n\nBegins at The Musuems at Lisle Station Park\n\n921 School Street\n\nLisle\, IL 60532\n\n\n\nGarden Walk & Craft Fair\n\nOpen from 10:00 a.m. - 4:00 p.m.\n\n\n\nwww.lislewomansclub.org\n\nlislewomansclub@gmail.com\n\n \n\nThe Lisle Woman's Club is hosting their 20th Annual\n\nGarden Gait.  Come enjoy our Garden Walk and Garden\n\nThemed Craft Fair on Sunday\, June 12th from 10am to\n\n4pm. The day begins at the Museum Station Park at 921\n\nSchool St. and then continues through some beautiful\n\nprivate gardens throughout Lisle. \n\n \n\nTickets can be purchased in advance at various locations\n\nthroughout Lisle for $15.00 and on the day of the event\n\nfor $20.00.  All proceeds from this event support many\n\nphilanthropic causes in and around Lisle and our student\n\nscholarship program. \n\n \n\nFor more information contact us at\n\nLisleWomansClub@gmail.com\, visit us on Facebook or go \n\nto our website at www.lislewomansclub.org !
X-ALT-DESC;FMTTYPE=text/html:<strong>Lisle Woman&#39\;s Club<br />\n20th Annual Garden Gait</strong><br />\n<br />\nSunday\, June 12\, 2022<br />\n<br />\n<strong>Begins at The Musuems at Lisle Station Park<br />\n921 School Street<br />\nLisle\, IL 60532<br />\n<br />\nGarden Walk &amp\; Craft Fair<br />\nOpen from 10:00 a.m. - 4:00 p.m.<br />\n<br />\nwww.lislewomansclub.org<br />\nlislewomansclub@gmail.com</strong><br />\n&nbsp\;\n<div class="c pg-1x1 pg-1y1 pg-1w2 pg-1h2">\n<div class="t pg-1m0 pg-1x0 pg-1h3 pg-1y2 pg-1ff1 pg-1fs0 pg-1fc0 pg-1sc0 pg-1ls0 pg-1ws0">The Lisle Woman&#39\;s Club is hosting their 20th Annual</div>\n\n<div class="t pg-1m0 pg-1x0 pg-1h3 pg-1y3 pg-1ff1 pg-1fs0 pg-1fc0 pg-1sc0 pg-1ls0 pg-1ws0">Garden Gait.&#57371\; Come enjoy our Garden Walk and Garden</div>\n\n<div class="t pg-1m0 pg-1x0 pg-1h3 pg-1y4 pg-1ff1 pg-1fs0 pg-1fc0 pg-1sc0 pg-1ls0 pg-1ws0">Themed Craft Fair on Sunday\, June 12th from 10am to</div>\n\n<div class="t pg-1m0 pg-1x0 pg-1h3 pg-1y5 pg-1ff1 pg-1fs0 pg-1fc0 pg-1sc0 pg-1ls0 pg-1ws0">4pm. The day begins at the Museum Station Park at 921</div>\n\n<div class="t pg-1m0 pg-1x0 pg-1h3 pg-1y6 pg-1ff1 pg-1fs0 pg-1fc0 pg-1sc0 pg-1ls0 pg-1ws0">School St. and then continues through some beautiful</div>\n\n<div class="t pg-1m0 pg-1x0 pg-1h3 pg-1y7 pg-1ff1 pg-1fs0 pg-1fc0 pg-1sc0 pg-1ls0 pg-1ws0">private gardens throughout Lisle.&#57371\;<br />\n&nbsp\;</div>\n\n<div class="t pg-1m0 pg-1x0 pg-1h3 pg-1y8 pg-1ff1 pg-1fs0 pg-1fc0 pg-1sc0 pg-1ls0 pg-1ws0">Tickets can be purchased in advance at various locations</div>\n\n<div class="t pg-1m0 pg-1x0 pg-1h3 pg-1y9 pg-1ff1 pg-1fs0 pg-1fc0 pg-1sc0 pg-1ls0 pg-1ws0">throughout Lisle for $15.00 and on the day of the event</div>\n\n<div class="t pg-1m0 pg-1x0 pg-1h3 pg-1ya pg-1ff1 pg-1fs0 pg-1fc0 pg-1sc0 pg-1ls0 pg-1ws0">for $20.00.&#57371\; All proceeds from this event support many</div>\n\n<div class="t pg-1m0 pg-1x0 pg-1h3 pg-1yb pg-1ff1 pg-1fs0 pg-1fc0 pg-1sc0 pg-1ls0 pg-1ws0">philanthropic causes in and around Lisle and our student</div>\n\n<div class="t pg-1m0 pg-1x0 pg-1h3 pg-1yc pg-1ff1 pg-1fs0 pg-1fc0 pg-1sc0 pg-1ls0 pg-1ws0">scholarship program.&#57371\;<br />\n&nbsp\;</div>\n\n<div class="t pg-1m0 pg-1x0 pg-1h3 pg-1yd pg-1ff1 pg-1fs0 pg-1fc0 pg-1sc0 pg-1ls0 pg-1ws0">For more information contact us at</div>\n\n<div class="t pg-1m0 pg-1x0 pg-1h3 pg-1ye pg-1ff1 pg-1fs0 pg-1fc1 pg-1sc0 pg-1ls0 pg-1ws0"><span class="pg-1fc2 pg-1sc0">L</span><span class="pg-1fc2 pg-1sc0">i</span><span class="pg-1fc2 pg-1sc0">s</span><span class="pg-1fc2 pg-1sc0">l</span><span class="pg-1fc2 pg-1sc0">e</span><span class="pg-1fc2 pg-1sc0">W</span><span class="pg-1fc2 pg-1sc0">o</span><span class="pg-1fc2 pg-1sc0">man</span><span class="pg-1fc2 pg-1sc0">s</span><span class="pg-1fc2 pg-1sc0">C</span><span class="pg-1fc2 pg-1sc0">l</span><span class="pg-1fc2 pg-1sc0">u</span><span class="pg-1fc2 pg-1sc0">b</span><span class="pg-1fc2 pg-1sc0">@g</span><span class="pg-1fc2 pg-1sc0">mai</span><span class="pg-1fc2 pg-1sc0">l</span><span class="pg-1fc2 pg-1sc0">.</span><span class="pg-1fc2 pg-1sc0">co</span><span class="pg-1fc2 pg-1sc0">m</span><span class="pg-1fc0">\, visit us on Facebook or go </span></div>\n\n<div class="t pg-1m0 pg-1x0 pg-1h3 pg-1yf pg-1ff1 pg-1fs0 pg-1fc0 pg-1sc0 pg-1ls0 pg-1ws0">to our website at www.lislewomansclub.org !</div>\n</div>\n<br />\n&nbsp\;
LOCATION:The Musuems at Lisle Park 921 School Street Lisle\, IL 60532
UID:e.27.14114
SEQUENCE:3
DTSTAMP:20260420T213133Z
URL:http://business.lislechamber.com/events/details/community-event-20th-annual-garden-gait-14114
END:VEVENT

END:VCALENDAR
