BEGIN:VCALENDAR
VERSION:2.0
PRODID:-//ChamberMaster//Event Calendar 2.0//EN
METHOD:PUBLISH
X-PUBLISHED-TTL:P3D
REFRESH-INTERVAL:P3D
CALSCALE:GREGORIAN
BEGIN:VEVENT
DTSTART:20221110T220000Z
DTEND:20221111T000000Z
X-MICROSOFT-CDO-ALLDAYEVENT:FALSE
SUMMARY:CANCELLED: Business After Hours - Emerge Wealth Strategies
DESCRIPTION:The Business After Hours at Emerge Wealth Strategies has been cancelled.\n\n\n\nBusiness After Hours - Emerge Wealth Strategies\n\nThursday\, November 10\, 2022\n\n4:00 p.m. - 6:00 p.m.\n\n\n\nEmerge Wealth Strategies\n\n4300 Commerce Court\, Suite 105\n\nLisle\, IL 60532\n\n\n\nRSVP to claudine@lislechamber.com.  \n\n\n\nIf you have any questions about the Business After Hours\, please contact Claudine Rummer at (630) 271-4165.
X-ALT-DESC;FMTTYPE=text/html:<br />\n<span style="color:#FF0000\;"><strong>The Business After Hours at Emerge Wealth Strategies has been cancelled.</strong></span><br />\n<br />\n<strong>Business After Hours - Emerge Wealth Strategies</strong><br />\nThursday\, November 10\, 2022<br />\n4:00 p.m. - 6:00 p.m.<br />\n<br />\n<strong>Emerge Wealth Strategies</strong><br />\n4300 Commerce Court\, Suite 105<br />\nLisle\, IL 60532<br />\n<br />\n<strong>RSVP to claudine@lislechamber.com.&nbsp\; </strong><br />\n<br />\nIf you have any questions about the Business After Hours\, please contact Claudine Rummer at (630) 271-4165.<br />\n&nbsp\;
LOCATION:Emerge Wealth Strategies 4300 Commerce Court\, Suite 105 Lisle\, IL 60532
UID:e.27.14586
SEQUENCE:3
DTSTAMP:20260420T123733Z
URL:http://business.lislechamber.com/events/details/cancelled-business-after-hours-emerge-wealth-strategies-14586
END:VEVENT

END:VCALENDAR
