BEGIN:VCALENDAR
VERSION:2.0
PRODID:-//ChamberMaster//Event Calendar 2.0//EN
METHOD:PUBLISH
X-PUBLISHED-TTL:P3D
REFRESH-INTERVAL:P3D
CALSCALE:GREGORIAN
BEGIN:VEVENT
DTSTART:20221116T133000Z
DTEND:20221116T143000Z
X-MICROSOFT-CDO-ALLDAYEVENT:FALSE
SUMMARY:Board of Directors Meeting
DESCRIPTION:Board of Directors Meeting\n\nWednesday\, November 16\, 2022\n\n7:30 a.m.\n\n\n\nVirtual Meeting
X-ALT-DESC;FMTTYPE=text/html:<strong>Board of Directors Meeting</strong><br />\nWednesday\, November 16\, 2022<br />\n7:30 a.m.<br />\n<br />\n<strong>Virtual Meeting</strong><br />\n&nbsp\;
LOCATION:Virtual Meeting
UID:e.27.14588
SEQUENCE:3
DTSTAMP:20260420T123633Z
URL:http://business.lislechamber.com/events/details/board-of-directors-meeting-14588
END:VEVENT

END:VCALENDAR
