BEGIN:VCALENDAR
VERSION:2.0
PRODID:-//ChamberMaster//Event Calendar 2.0//EN
METHOD:PUBLISH
X-PUBLISHED-TTL:P3D
REFRESH-INTERVAL:P3D
CALSCALE:GREGORIAN
BEGIN:VEVENT
DTSTART:20220420T123000Z
DTEND:20220420T133000Z
X-MICROSOFT-CDO-ALLDAYEVENT:FALSE
SUMMARY:Board of Directors Meeting
DESCRIPTION:Board of Directors Meeting\n\nWednesday\, April 20\, 2022\n\n7:30 a.m.
X-ALT-DESC;FMTTYPE=text/html:<br />\n<strong>Board of Directors Meeting</strong><br />\nWednesday\, April 20\, 2022<br />\n7:30 a.m.<br />\n&nbsp\;
LOCATION:
UID:e.27.14069
SEQUENCE:3
DTSTAMP:20260420T231027Z
URL:http://business.lislechamber.com/events/details/board-of-directors-meeting-14069
END:VEVENT

END:VCALENDAR
