BEGIN:VCALENDAR
VERSION:2.0
PRODID:-//ChamberMaster//Event Calendar 2.0//EN
METHOD:PUBLISH
X-PUBLISHED-TTL:P3D
REFRESH-INTERVAL:P3D
CALSCALE:GREGORIAN
BEGIN:VEVENT
DTSTART:20251204T171500Z
DTEND:20251204T191500Z
X-MICROSOFT-CDO-ALLDAYEVENT:FALSE
SUMMARY:Annual Meeting Luncheon & Holiday Party
DESCRIPTION:Annual Meeting Luncheon & Holiday Party\n\nThursday\, December 4\, 2025\n\n11:15 a.m. - 1:15 p.m.\n\n\n\nLimitless Dreams Events\n\n1600 Maple Avenue\, Suite B\n\nLisle\, IL 60532\n\n\n\nLunch will be catered by Belgio's Catering\n\n\n\n\n\nMember Rate: $40.00\n\nNon-Member Rate: $55.00\n\n\n\nCome celebrate the season & the Chamber Board of Directors. Join us for our Annual Meeting Luncheon & Holiday Party. We will be honoring the 2025 Board of Directors & inducting the 2024 Board of Directors. Bring your business cards for networking. There will be raffle prizes from Chamber Member businesses.
X-ALT-DESC;FMTTYPE=text/html:<br />\n<span style="box-sizing: border-box\; font-weight: bolder\; font-family: Arial\, Helvetica\, sans-serif\; font-size: 16px\;">Annual Meeting Luncheon &amp\; Holiday Party</span><br style="box-sizing: border-box\; font-family: Arial\, Helvetica\, sans-serif\; font-size: 16px\;" />\n<span style="font-family: Arial\, Helvetica\, sans-serif\; font-size: 16px\;">Thursday\, December 4\, 2025</span><br style="box-sizing: border-box\; font-family: Arial\, Helvetica\, sans-serif\; font-size: 16px\;" />\n<span style="font-family: Arial\, Helvetica\, sans-serif\; font-size: 16px\;">11:15 a.m. - 1:15 p.m.</span><br style="box-sizing: border-box\; font-family: Arial\, Helvetica\, sans-serif\; font-size: 16px\;" />\n<br style="box-sizing: border-box\; font-family: Arial\, Helvetica\, sans-serif\; font-size: 16px\;" />\n<span style="box-sizing: border-box\; font-weight: bolder\; font-family: Arial\, Helvetica\, sans-serif\; font-size: 16px\;">Limitless Dreams Events<br style="box-sizing: border-box\;" />\n1600 Maple Avenue\, Suite B<br style="box-sizing: border-box\;" />\nLisle\, IL 60532<br />\n<br />\nLunch will be catered by Belgio&#39\;s Catering</span><br style="box-sizing: border-box\;" />\n<br style="box-sizing: border-box\; font-family: Arial\, Helvetica\, sans-serif\; font-size: 16px\;" />\n<br style="box-sizing: border-box\; font-family: Arial\, Helvetica\, sans-serif\; font-size: 16px\;" />\n<span style="box-sizing: border-box\; font-weight: bolder\; font-family: Arial\, Helvetica\, sans-serif\; font-size: 16px\;">Member Rate: $40.00<br style="box-sizing: border-box\;" />\nNon-Member Rate: $55.00</span><br style="box-sizing: border-box\; font-family: Arial\, Helvetica\, sans-serif\; font-size: 16px\;" />\n<br style="box-sizing: border-box\; font-family: Arial\, Helvetica\, sans-serif\; font-size: 16px\;" />\n<span class="OYPEnA font-feature-liga-off font-feature-clig-off font-feature-calt-off text-decoration-none text-strikethrough-none" style="box-sizing: border-box\; font-family: Arial\, Helvetica\, sans-serif\; font-size: 16px\; color: rgb(0\, 0\, 0)\; font-weight: 700\; font-kerning: none\;">Come celebrate the season &amp\; the Chamber Board of Directors. Join us for our Annual Meeting Luncheon &amp\; Holiday Party.</span><span class="OYPEnA font-feature-liga-off font-feature-clig-off font-feature-calt-off text-decoration-none text-strikethrough-none white-space-prewrap" style="box-sizing: border-box\; font-family: Arial\, Helvetica\, sans-serif\; font-size: 16px\; color: rgb(0\, 0\, 0)\; font-weight: 700\; font-kerning: none\;">&nbsp\;</span><span class="OYPEnA font-feature-liga-off font-feature-clig-off font-feature-calt-off text-decoration-none text-strikethrough-none" style="box-sizing: border-box\; font-family: Arial\, Helvetica\, sans-serif\; font-size: 16px\; color: rgb(0\, 0\, 0)\; font-weight: 700\; font-kerning: none\;">We will be honoring the 2025 Board of Directors &amp\; inducting the 2024 Board of Directors. Bring your business cards for networking.</span><span class="OYPEnA font-feature-liga-off font-feature-clig-off font-feature-calt-off text-decoration-none text-strikethrough-none white-space-prewrap" style="box-sizing: border-box\; font-family: Arial\, Helvetica\, sans-serif\; font-size: 16px\; color: rgb(0\, 0\, 0)\; font-weight: 700\; font-kerning: none\;">&nbsp\;</span><span class="OYPEnA font-feature-liga-off font-feature-clig-off font-feature-calt-off text-decoration-none text-strikethrough-none" style="box-sizing: border-box\; font-family: Arial\, Helvetica\, sans-serif\; font-size: 16px\; color: rgb(0\, 0\, 0)\; font-weight: 700\; font-kerning: none\;">There will be raffle prizes from Chamber Member businesses.</span>
LOCATION:Limitless Dreams Events 1600 Maple Avenue\, Suite B Lisle\, IL 60532
UID:e.27.16799
SEQUENCE:3
DTSTAMP:20260420T082648Z
URL:http://business.lislechamber.com/events/details/annual-meeting-luncheon-holiday-party-16799
END:VEVENT

END:VCALENDAR
