BEGIN:VCALENDAR
VERSION:2.0
PRODID:-//ChamberMaster//Event Calendar 2.0//EN
METHOD:PUBLISH
X-PUBLISHED-TTL:P3D
REFRESH-INTERVAL:P3D
CALSCALE:GREGORIAN
BEGIN:VEVENT
DTSTART:20221021T130000Z
DTEND:20221021T140000Z
X-MICROSOFT-CDO-ALLDAYEVENT:FALSE
SUMMARY:Ambassador Meeting October
DESCRIPTION:Ambassador Meeting October\n\nFriday\, October 21\, 2022\n\n8:00 a.m.\n\n\n\nMeeting Location Moved To:\n\n\n\nDebbie Pawlowicz's Office\n\nDPG Real Estate\n\n4726 B Main Street\n\nLisle\, IL 60532\n\n\n\nMeeting will be held In-Person.
X-ALT-DESC;FMTTYPE=text/html:<br />\n<strong>Ambassador Meeting October</strong><br />\nFriday\, October 21\, 2022<br />\n8:00 a.m.<br />\n<br />\n<strong>Meeting Location Moved To:<br />\n<br />\nDebbie Pawlowicz&#39\;s Office<br />\nDPG Real Estate<br />\n4726 B Main Street<br />\nLisle\, IL 60532</strong><br />\n<br />\n<strong>Meeting will be held In-Person.</strong><br />\n&nbsp\;
LOCATION:Meeting Location Moved To: Debbie Pawlowicz's Office DPG Real Estate 4726 B Main Street Lisle\, IL 60532
UID:e.27.14585
SEQUENCE:3
DTSTAMP:20260420T135219Z
URL:http://business.lislechamber.com/events/details/ambassador-meeting-october-14585
END:VEVENT

END:VCALENDAR
