BEGIN:VCALENDAR
VERSION:2.0
PRODID:-//ChamberMaster//Event Calendar 2.0//EN
METHOD:PUBLISH
X-PUBLISHED-TTL:P3D
REFRESH-INTERVAL:P3D
CALSCALE:GREGORIAN
BEGIN:VEVENT
DTSTART:20220520T130000Z
DTEND:20220520T140000Z
X-MICROSOFT-CDO-ALLDAYEVENT:FALSE
SUMMARY:Ambassador Meeting May
DESCRIPTION:Ambassador Meeting May\n\nFriday\, May 20\, 2022\n\n8:00 a.m.\n\n\n\nMeeting will be held In-Person with a virtual option to attend\n\nLisle Area Chamber of Commerce\n\n925 Burlington Avenue\n\nLisle\, IL 60532
X-ALT-DESC;FMTTYPE=text/html:<strong>Ambassador Meeting May</strong><br />\nFriday\, May 20\, 2022<br />\n8:00 a.m.<br />\n<br />\n<strong>Meeting will be held In-Person with a virtual option to attend<br />\nLisle Area Chamber of Commerce</strong><br />\n925 Burlington Avenue<br />\nLisle\, IL 60532<br />\n<br />\n<br />\n&nbsp\;
LOCATION:Meeting will be held In-Person with a virtual option to attend Lisle Area Chamber of Commerce 925 Burlington Avenue Lisle\, IL 60532
UID:e.27.14074
SEQUENCE:3
DTSTAMP:20260420T212930Z
URL:http://business.lislechamber.com/events/details/ambassador-meeting-may-14074
END:VEVENT

END:VCALENDAR
