BEGIN:VCALENDAR
VERSION:2.0
PRODID:-//ChamberMaster//Event Calendar 2.0//EN
METHOD:PUBLISH
X-PUBLISHED-TTL:P3D
REFRESH-INTERVAL:P3D
CALSCALE:GREGORIAN
BEGIN:VEVENT
DTSTART:20220325T130000Z
DTEND:20220325T140000Z
X-MICROSOFT-CDO-ALLDAYEVENT:FALSE
SUMMARY:Ambassador Meeting March
DESCRIPTION:Ambassador Meeting - March 2022\n\nFriday\, March 25\, 2022\n\n8:00 a.m.\n\n\n\nMeeting location details TBA
X-ALT-DESC;FMTTYPE=text/html:<strong>Ambassador Meeting - March 2022</strong><br />\nFriday\, March 25\, 2022<br />\n8:00 a.m.<br />\n<br />\n<strong>Meeting location details TBA </strong><br />\n&nbsp\;
LOCATION:Meeting location details TBA
UID:e.27.14068
SEQUENCE:3
DTSTAMP:20260421T005109Z
URL:http://business.lislechamber.com/events/details/ambassador-meeting-march-14068
END:VEVENT

END:VCALENDAR
