BEGIN:VCALENDAR
VERSION:2.0
PRODID:-//ChamberMaster//Event Calendar 2.0//EN
METHOD:PUBLISH
X-PUBLISHED-TTL:P3D
REFRESH-INTERVAL:P3D
CALSCALE:GREGORIAN
BEGIN:VEVENT
DTSTART:20220624T130000Z
DTEND:20220624T140000Z
X-MICROSOFT-CDO-ALLDAYEVENT:FALSE
SUMMARY:Ambassador Meeting June
DESCRIPTION:Ambassador Meeting June\n\nFriday\, June 24\, 2022\n\n8:00 a.m.\n\n\n\nLisle Area Chamber of Commerce\n\n925 Burlington Avenue\n\nLisle\, IL 60532\n\n\n\nMeeting will be held In-Person with a virtual option to attend.  If you are interested in attending virtually\, please contact Claudine Rummer at claudine@lislechamber.com
X-ALT-DESC;FMTTYPE=text/html:<br />\n<strong>Ambassador Meeting June</strong><br />\nFriday\, June 24\, 2022<br />\n8:00 a.m.<br />\n<br />\n<strong>Lisle Area Chamber of Commerce</strong><br />\n925 Burlington Avenue<br />\nLisle\, IL 60532<br />\n<br />\n<strong>Meeting will be held In-Person with a virtual option to attend.&nbsp\; If you are interested in attending virtually\, please contact Claudine Rummer at claudine@lislechamber.com</strong><br />\n&nbsp\;
LOCATION:Lisle Area Chamber of Commerce 925 Burlington Avenue Lisle\, IL 60532 Meeting will be held In-Person with a virtual option to attend. If you are interested in attending virtually\, please contact Claudine Rummer at claudine@lislechamber.com
UID:e.27.14123
SEQUENCE:3
DTSTAMP:20260420T201020Z
URL:http://business.lislechamber.com/events/details/ambassador-meeting-june-14123
END:VEVENT

END:VCALENDAR
