BEGIN:VCALENDAR
VERSION:2.0
PRODID:-//ChamberMaster//Event Calendar 2.0//EN
METHOD:PUBLISH
X-PUBLISHED-TTL:P3D
REFRESH-INTERVAL:P3D
CALSCALE:GREGORIAN
BEGIN:VEVENT
DTSTART:20220225T140000Z
DTEND:20220225T150000Z
X-MICROSOFT-CDO-ALLDAYEVENT:FALSE
SUMMARY:Ambassador Meeting February
DESCRIPTION:Ambassador Meeting - February 2022\n\nFriday\, February 25\, 2022\n\n8:00 a.m.\n\n\n\nVirtual Meeting
X-ALT-DESC;FMTTYPE=text/html:<br />\n<strong>Ambassador Meeting - February 2022</strong><br />\nFriday\, February 25\, 2022<br />\n8:00 a.m.<br />\n<br />\n<strong>Virtual Meeting</strong><br />\n&nbsp\;
LOCATION:Virtual Meeting
UID:e.27.14041
SEQUENCE:3
DTSTAMP:20260421T040437Z
URL:http://business.lislechamber.com/events/details/ambassador-meeting-february-14041
END:VEVENT

END:VCALENDAR
