BEGIN:VCALENDAR
VERSION:2.0
PRODID:-//ChamberMaster//Event Calendar 2.0//EN
METHOD:PUBLISH
X-PUBLISHED-TTL:P3D
REFRESH-INTERVAL:P3D
CALSCALE:GREGORIAN
BEGIN:VEVENT
DTSTART:20221120T133000Z
DTEND:20221120T173000Z
X-MICROSOFT-CDO-ALLDAYEVENT:FALSE
SUMMARY:2022 Turkey Trot Tune-Up 5K
DESCRIPTION:Results at: \nhttps://results.raceroster.com/en-US/results/hqkdywdja97zyeah/awards?subEventId=153642\n\n\n\n\n\n \nClick on the link below to register for the Turkey Trot Tune-Up 5K\n\nhttps://www.active.com/lisle-il/running/distance-running-races/turkey-trot-tune-up-5k-2022\n\n\n\nPacket pick up is November 18\, 2022 from 9:00 am - 4:00 pm \n\nLisle Area Chamber of Commerce\n\n925 Burlington Avenue\n\nLisle\, IL  60532\n\n\n\nAnd Race Day\n\nTurkey Trot Tune-Up 5K\n\nSunday\, November 20\, 2022\n\nRegistration: 7:30 a.m.\n\nRace Start: 9:00 a.m.\n\n\n\nLisle Community Park\n\n1825 Short Street\n\nLisle\, IL 60532\n\n\n\nThank you to our Sponsors!!\n\n\n\nCHIP TIMING SPONSOR:  Lisle Savings Bank\n\n\n\nPLATINUM SPONSORS:  Emerge Wealth Strategies\n\n                                           Lisle Park District\n\n                                           Molex\, LLC\n\n\n\nSILVER SPONSORS:  Honda of Lisle/Vovlo Cars Lisle\n\n                                      WDCB 90.9fm Public Radio\n\n\n\nBRONZE SPONSORS: Holistic Health Care Centers\, LLC\n\n                                       St. Joan of Arc\n\n                                       Williams Chiropractic Center
X-ALT-DESC;FMTTYPE=text/html:Results at:&nbsp\;\n<p style="margin: 0px\; font-stretch: normal\; font-size: 12px\; line-height: normal\; font-family: Helvetica\;"><a href="https://results.raceroster.com/en-US/results/hqkdywdja97zyeah/awards?subEventId=153642">https://results.raceroster.com/en-US/results/hqkdywdja97zyeah/awards?subEventId=153642</a><br />\n<br />\n<br />\n&nbsp\;</p>\n<strong>Click on the link below to register for the Turkey Trot Tune-Up 5K<br />\n<a href="https://www.active.com/lisle-il/running/distance-running-races/turkey-trot-tune-up-5k-2022">https://www.active.com/lisle-il/running/distance-running-races/turkey-trot-tune-up-5k-2022</a><br />\n<br />\n<span style="color:#008000\;">Packet pick up is November 18\, 2022 from 9:00 am - 4:00 pm&nbsp\;</span><br />\nLisle Area Chamber of Commerce<br />\n925 Burlington Avenue<br />\nLisle\, IL&nbsp\; 60532<br />\n<br />\nAnd Race Day<br />\nTurkey Trot Tune-Up 5K</strong><br />\nSunday\, November 20\, 2022<br />\nRegistration: 7:30 a.m.<br />\nRace Start: 9:00 a.m.<br />\n<br />\n<strong>Lisle Community Park</strong><br />\n1825 Short Street<br />\nLisle\, IL 60532<br />\n<br />\n<strong><span style="color:#8B4513\;">Thank you to our Sponsor</span>s!!<br />\n<br />\n<span style="color:#8B4513\;">CHIP TIMING SPONSOR:&nbsp\; Lisle Savings Bank<br />\n<br />\nPLATINUM SPONSORS:&nbsp\; Emerge Wealth Strategies<br />\n&nbsp\; &nbsp\; &nbsp\; &nbsp\; &nbsp\; &nbsp\; &nbsp\; &nbsp\; &nbsp\; &nbsp\; &nbsp\; &nbsp\; &nbsp\; &nbsp\; &nbsp\; &nbsp\; &nbsp\; &nbsp\; &nbsp\; &nbsp\; &nbsp\; &nbsp\;Lisle Park District<br />\n&nbsp\; &nbsp\; &nbsp\; &nbsp\; &nbsp\; &nbsp\; &nbsp\; &nbsp\; &nbsp\; &nbsp\; &nbsp\; &nbsp\; &nbsp\; &nbsp\; &nbsp\; &nbsp\; &nbsp\; &nbsp\; &nbsp\; &nbsp\; &nbsp\; &nbsp\;Molex\, LLC<br />\n<br />\nSILVER SPONSORS:&nbsp\; Honda of Lisle/Vovlo Cars Lisle<br />\n&nbsp\; &nbsp\; &nbsp\; &nbsp\; &nbsp\; &nbsp\; &nbsp\; &nbsp\; &nbsp\; &nbsp\; &nbsp\; &nbsp\; &nbsp\; &nbsp\; &nbsp\; &nbsp\; &nbsp\; &nbsp\; &nbsp\; WDCB 90.9fm Public Radio</span></strong><br />\n<br />\n<strong><span style="color:#8B4513\;">BRONZE SPONSORS: Holistic Health Care Centers\, LLC<br />\n&nbsp\; &nbsp\; &nbsp\; &nbsp\; &nbsp\; &nbsp\; &nbsp\; &nbsp\; &nbsp\; &nbsp\; &nbsp\; &nbsp\; &nbsp\; &nbsp\; &nbsp\; &nbsp\; &nbsp\; &nbsp\; &nbsp\; &nbsp\;St. Joan of Arc<br />\n&nbsp\; &nbsp\; &nbsp\; &nbsp\; &nbsp\; &nbsp\; &nbsp\; &nbsp\; &nbsp\; &nbsp\; &nbsp\; &nbsp\; &nbsp\; &nbsp\; &nbsp\; &nbsp\; &nbsp\; &nbsp\; &nbsp\; &nbsp\;Williams Chiropractic Center</span></strong><br />\n<br />\n&nbsp\;
LOCATION:Lisle Community Park 1825 Short Street Lisle\, IL 60532
UID:e.27.14592
SEQUENCE:3
DTSTAMP:20260420T135353Z
URL:http://business.lislechamber.com/events/details/2022-turkey-trot-tune-up-5k-14592
END:VEVENT

END:VCALENDAR
