BEGIN:VCALENDAR
VERSION:2.0
PRODID:-//ChamberMaster//Event Calendar 2.0//EN
METHOD:PUBLISH
X-PUBLISHED-TTL:P3D
REFRESH-INTERVAL:P3D
CALSCALE:GREGORIAN
BEGIN:VEVENT
DTSTART:20220622T133000Z
DTEND:20220622T193000Z
X-MICROSOFT-CDO-ALLDAYEVENT:FALSE
SUMMARY:2022 Illinois Women In Business Conference
DESCRIPTION:Illinois Chamber 2022 Women In Business Conference\n\nWednesday\, June 22\, 2022\n\n8:30 a.m. - 2:30 p.m.\n\n\n\nNIU Center \n\n1120 E Diehl Road\n\nNaperville\, IL 60563\n\n\n\nMember Rate: $175.00\n\nNon-Member Rate: $225.00\n\n\n\nSave $50 if you register by June 12\, 2022\n\n\n\nRegister at ilchamber.org/womensconference\n\n \nStrong Women. Stronger Illinois\nIllinois women are Second to No One. We have amazing talent\, determination\, intelligence\, and resolve. This year's theme will be Challenge Accepted. \n\nThe Illinois Chamber welcomes you to our women's conference as we come together to discuss and further dreams of our already strong women for a stronger Illinois. This year's theme is "Challenge Accepted." The robust agenda will provide time for networking and connecting with professionals\, and topics providing takeaways for all to take back to the office or home.
X-ALT-DESC;FMTTYPE=text/html:<strong>Illinois Chamber 2022 Women In Business Conference</strong><br />\nWednesday\, June 22\, 2022<br />\n8:30 a.m. - 2:30 p.m.<br />\n<br />\n<strong>NIU Center </strong><br />\n<span class="LrzXr">1120 E Diehl Road<br />\nNaperville\, IL 60563</span><br />\n<br />\n<strong>Member Rate: $175.00<br />\nNon-Member Rate: $225.00<br />\n<br />\n<span style="color:#FF0000\;">Save $50 if you register by June 12\, 2022</span><br />\n<br />\nRegister at <a href="http://ilchamber.org/womensconference">ilchamber.org/womensconference</a></strong><br />\n&nbsp\;\n<div><strong>Strong Women. Stronger Illinois</strong></div>\n<strong>Illinois women are Second to No One.&nbsp\;We have amazing talent\, determination\, intelligence\, and resolve. This year&#39\;s theme will be Challenge Accepted.&nbsp\;</strong>\n\n<p>The Illinois Chamber welcomes you to our women&#39\;s conference as we come together to discuss and further dreams of our already strong women for a stronger Illinois. This year&#39\;s theme is &quot\;Challenge Accepted.&quot\; The robust agenda will provide time for networking and connecting with professionals\, and topics providing takeaways for all to take back to the office or home.&nbsp\;</p>\n<br />\n&nbsp\;
LOCATION:NIU Center 1120 E Diehl Road Naperville\, IL 60563
UID:e.27.14096
SEQUENCE:3
DTSTAMP:20260420T213331Z
URL:http://business.lislechamber.com/events/details/2022-illinois-women-in-business-conference-14096
END:VEVENT

END:VCALENDAR
