BEGIN:VCALENDAR
VERSION:2.0
PRODID:-//ChamberMaster//Event Calendar 2.0//EN
METHOD:PUBLISH
X-PUBLISHED-TTL:P3D
REFRESH-INTERVAL:P3D
CALSCALE:GREGORIAN
BEGIN:VEVENT
DTSTART:20220712T180000Z
DTEND:20220713T010000Z
X-MICROSOFT-CDO-ALLDAYEVENT:FALSE
SUMMARY:2022 Annual Golf Outing
DESCRIPTION:THANK YOU TO OUR SPONSORS FOR MAKING OUR EVENT A SUCCESS!\n\n\n\n\n\nLisle Area Chamber of Commerce\n\n2022 Annual Golf Outing\n\nPresenting Sponsor: Molex\, LLC\n\n\n\nTuesday\, July 12\, 2022\n\nShotgun Shot: 1:00 p.m.\n\n\n\nSeven Bridges Golf Club\n\nOne Mulligan Drive\n\nWoodridge\, IL 60517\n\n\n\nFoursome: $600.00\n\nIndividual Golfer: $160.00\n\nFORE 4 You Pack (Value of $40.00 - 15 Raffle Tickets\, 2 Mulligans & 2 Drink Tickets): $30.00\n\nRaffle Tickets - 15 Raffle Tickets for $20.00\n\n\n\n\n\nGolfer Fee Includes 18 holes of Golf and Boxed Lunch & Buffet Dinner\n\n\n\nSPONSORSHIPS ARE AVAILABLE\n\n(If you are interested in sponsoring the event\, please contact Jill at jill@lislechamber.com or (331) 801-0098.)\n\n\n\nSPONSORS:\n\n\n\nPresenting Sponsor:  Molex\, LLC\n\n\n\nDiamond Sponsor:  Lisle Savings Bank\n\n\n\nBeverage Cart Sponsors:    Davey Tree Expert Company\n\n                                               State Farm Insurance Luis F. Garcia\n\n                                              \n\n\n\nHole Sponsors:    \n\nAdvanced Imaging\, Inc.\n\nAurelio's Pizza Woodridge\n\nBankFinancial\n\nFour Lakes Alpine Snowsports\n\nGator Chef Restaurant Equipment & Supplies\n\nHonda of Lisle/Volvo Cars Lisle\n\nThe Hire Solution Employment Corporation\n\nKaty Cunningham Photography\n\nThe Lee Ernst Group at eXp Realty\n\nPaisans Pizzeria & Bar\n\nState Farm Insurance - Luis F. Garcia\n\nTORG Realty\, Inc.\n\nWilliams Chiropractic Center\n\nYour Story Counseling\, P.C.\n\n\n\nPutting Green Sponsor: Your Story Counseling\, P.C.\n\n\n\nEvent Photography Donated by Katy Cunningham Photography
X-ALT-DESC;FMTTYPE=text/html:<br />\n<span style="color:#FF0000\;"><strong>THANK YOU TO OUR SPONSORS FOR MAKING OUR EVENT A SUCCESS!</strong></span><br />\n<br />\n<br />\n<span style="font-size:16px\;"><strong>Lisle Area Chamber of Commerce<br />\n2022 Annual Golf Outing<br />\nPresenting Sponsor: Molex\, LLC</strong></span><br />\n<br />\nTuesday\, July 12\, 2022<br />\nShotgun Shot: 1:00 p.m.<br />\n<br />\n<strong>Seven Bridges Golf Club</strong><br />\nOne Mulligan Drive<br />\nWoodridge\, IL 60517<br />\n<br />\n<strong>Foursome: $600.00</strong><br />\n<strong>Individual Golfer: $160.00<br />\nFORE 4 You Pack (Value of $40.00 - 15 Raffle Tickets\, 2 Mulligans &amp\; 2 Drink Tickets): $30.00<br />\nRaffle Tickets - 15 Raffle Tickets for $20.00</strong><br />\n<br />\n<br />\n<strong>Golfer Fee Includes 18 holes of Golf and Boxed Lunch &amp\; Buffet Dinner</strong><br />\n<br />\nSPONSORSHIPS ARE AVAILABLE<br />\n(If you are interested in sponsoring the event\, please contact Jill at jill@lislechamber.com or (331) 801-0098.)<br />\n<br />\n<span style="color:#008000\;"><strong>SPONSORS:<br />\n<br />\n<span style="font-size:18px\;">Presenting Sponsor: &nbsp\;</span></strong></span><span style="font-size:18px\;"><span style="color:#008000\;"><strong>Molex\, LLC</strong></span></span><br />\n<br />\n<span style="font-size:16px\;"><strong><span style="color:#008000\;">Diamond Sponsor: &nbsp\;</span></strong></span><span style="font-size:12px\;"><strong><span style="color:#008000\;"><span style="font-size:16px\;">Lisle Savings Bank</span></span></strong></span><br />\n<br />\n<strong><span style="color:#008000\;">Beverage Cart Sponsors:</span></strong>&nbsp\;&nbsp\;&nbsp\; <strong><span style="color:#008000\;">Davey Tree Expert Company<br />\n&nbsp\;&nbsp\;&nbsp\;&nbsp\;&nbsp\;&nbsp\;&nbsp\;&nbsp\;&nbsp\;&nbsp\;&nbsp\;&nbsp\;&nbsp\;&nbsp\;&nbsp\;&nbsp\;&nbsp\;&nbsp\;&nbsp\;&nbsp\;&nbsp\;&nbsp\;&nbsp\;&nbsp\;&nbsp\;&nbsp\;&nbsp\;&nbsp\;&nbsp\;&nbsp\;&nbsp\;&nbsp\;&nbsp\;&nbsp\;&nbsp\;&nbsp\;&nbsp\;&nbsp\;&nbsp\;&nbsp\;&nbsp\;&nbsp\;&nbsp\;&nbsp\;&nbsp\;&nbsp\; State Farm Insurance Luis F. Garcia</span></strong><br />\n&nbsp\;&nbsp\;&nbsp\;&nbsp\;&nbsp\;&nbsp\;&nbsp\;&nbsp\;&nbsp\;&nbsp\;&nbsp\;&nbsp\;&nbsp\;&nbsp\;&nbsp\;&nbsp\;&nbsp\;&nbsp\;&nbsp\;&nbsp\;&nbsp\;&nbsp\;&nbsp\;&nbsp\;&nbsp\;&nbsp\;&nbsp\;&nbsp\;&nbsp\;&nbsp\;&nbsp\;&nbsp\;&nbsp\;&nbsp\;&nbsp\;&nbsp\;&nbsp\;&nbsp\;&nbsp\;&nbsp\;&nbsp\;&nbsp\;&nbsp\;&nbsp\;&nbsp\;&nbsp\;<br />\n<br />\n<span style="font-size:12px\;"><strong><span style="color:#008000\;"><span style="font-size:14px\;">Hole Sponsors:</span></span></strong></span><span style="font-size:14px\;">&nbsp\;&nbsp\;&nbsp\;&nbsp\;<br />\n<strong><span style="color:#008000\;">Advanced Imaging\, Inc.<br />\nAurelio&#39\;s Pizza Woodridge<br />\nBankFinancial<br />\nFour Lakes Alpine Snowsports<br />\nGator Chef Restaurant Equipment &amp\; Supplies</span></strong><br />\n<strong><span style="color:#008000\;">Honda of Lisle/Volvo Cars Lisle<br />\nThe Hire Solution Employment Corporation<br />\nKaty Cunningham Photography<br />\nThe Lee Ernst Group at eXp Realty<br />\nPaisans Pizzeria &amp\; Bar<br />\nState Farm Insurance - Luis F. Garcia</span></strong><br />\n<strong><span style="color:#008000\;">TORG Realty\, Inc.</span></strong><br />\n<strong><span style="color:#008000\;">Williams Chiropractic Center</span></strong><br />\n<strong><span style="color:#008000\;">Your Story Counseling\, P.C.<br />\n<br />\nPutting Green Sponsor: Your Story Counseling\, P.C.<br />\n<br />\nEvent Photography Donated by Katy Cunningham Photography</span></strong></span>
LOCATION:Seven Bridges Golf Club 1 Mulligan Drive Woodridge\, IL 60517
UID:e.27.14119
SEQUENCE:3
DTSTAMP:20260420T182649Z
URL:http://business.lislechamber.com/events/details/2022-annual-golf-outing-14119
END:VEVENT

END:VCALENDAR
