BEGIN:VCALENDAR
VERSION:2.0
PRODID:-//ChamberMaster//Event Calendar 2.0//EN
METHOD:PUBLISH
X-PUBLISHED-TTL:P3D
REFRESH-INTERVAL:P3D
CALSCALE:GREGORIAN
BEGIN:VEVENT
DTSTART:20210713T180000Z
DTEND:20210714T010000Z
X-MICROSOFT-CDO-ALLDAYEVENT:FALSE
SUMMARY:2021 Annual Golf Outing
DESCRIPTION:$20.00 - FORE 4 You (Includes 15 Raffle Tickets - $20.00 Value & 2 Mulligans - $10.00 Value)\n\n\n\n$10.00 for 5 Raffle Tickets\n\n$20.00 for 15 Raffle Tickets\n\n$5.00 for 1 Mulligan\n\nCLICK ON REGISTER NOW TO PURCHASE YOUR RAFFLE TICKETS\n\n\n\nLisle Area Chamber of Commerce\n\n2021 Annual Golf Outing\n\nPresenting Sponsor:  MOLEX\, LLC\n\n\n\nTuesday\, July 13\, 2021\n\nShotgun Start: 1:00 p.m.\n\n\n\nSeven Bridges Golf Club\n\nOne Mulligan Drive\n\nWoodridge\, IL 60517\n\n\n\nFoursome - $540.00*\n\n*(Rate increase after July 1\, 2021 - $600.00)\n\nIndividual Golfer - $145.00\n\n*(Rate increase after July 1\, 2021 - $160.00)\n\n\n\n\n\nGolf Fee Includes: 18 Holes of Golf and Boxed Lunch & Dinner\n\n\n\nSPONSORSHIPS ARE AVAILABLE\n\n(If you are interested in sponsoring the event\, please contact Jill at jill@lislechamber.com or (331) 801-0098.)\n\n\n\nSPONSORS:\n\n\n\nPresenting Sponsor: Molex\, LLC\n\n\n\nPlatinum Sponsors:        JJ Supply Partners\, Inc.\n\n                                          Lisle Savings Bank\n\n                                           Marquette Companies\n\n\n\nBeverage Cart Sponsor: Emerge Wealth Strategies\n\nFace Mask Sponsor: IRVINE Group at john greene Realtor\n\nPutting Green Sponsor: Your Story Counseling\, P.C.\n\n\n\nHole Sponsors:  \n\nAdvanced Imaging\, Inc.\n\nBankFinancial\n\nCulver's Downers Grove/Lisle\n\nCynthia Brown - Farmers Insurance\n\nElite Remodeling Group\n\nThe Hire Solution\n\nHonda of Lisle\n\nHumidor of Lisle\n\nIRVINE Group at john greene Realtor\n\nMidwest Auto Body of Lisle\n\nPaisan's Pizzeria & Bar\n\nVilla St. Benedict\n\nWilliams Chiropractic Center\n\nYour Story Counseling\, P.C.\n\n\n\nTee Bag Items Donated By:\n\nBankFinancial\n\nEmerge Wealth Strategies\n\nFour Lakes Recreation\n\nThe Hire Solution\n\nHonda of Lisle\n\nIrvine Group at john greene Realtor\n\nMidwest Auto Body of Lisle
X-ALT-DESC;FMTTYPE=text/html:<br />\n<strong>$20.00 - FORE 4 You (Includes 15 Raffle Tickets - $20.00 Value &amp\; 2 Mulligans - $10.00 Value)</strong><br />\n<br />\n<strong>$10.00 for 5 Raffle Tickets<br />\n$20.00 for 15 Raffle Tickets</strong><br />\n<strong>$5.00 for 1 Mulligan<br />\n<span style="color:#FF0000\;">CLICK ON REGISTER NOW TO PURCHASE YOUR RAFFLE TICKETS</span></strong><br />\n<br />\n<strong>Lisle Area Chamber of Commerce<br />\n2021 Annual Golf Outing<br />\nPresenting Sponsor:&nbsp\; MOLEX\, LLC</strong><br />\n<br />\nTuesday\, July 13\, 2021<br />\nShotgun Start: 1:00 p.m.<br />\n<br />\n<strong>Seven Bridges Golf Club</strong><br />\nOne Mulligan Drive<br />\nWoodridge\, IL 60517<br />\n<br />\n<strong>Foursome - $540.00*</strong><br />\n*(Rate increase after July 1\, 2021 - $600.00)<br />\n<strong>Individual Golfer - $145.00</strong><br />\n*(Rate increase after July 1\, 2021 - $160.00)<br />\n<br />\n<br />\n<strong>Golf Fee Includes: 18 Holes of Golf and Boxed Lunch &amp\; Dinner</strong><br />\n<br />\nSPONSORSHIPS ARE AVAILABLE<br />\n(If you are interested in sponsoring the event\, please contact Jill at jill@lislechamber.com or (331) 801-0098.)<br />\n<br />\n<strong><span style="color:#008000\;">SPONSORS:</span><br />\n<br />\n<span style="color:#008000\;"><span style="font-size:18px\;">Presenting Sponsor: Molex\, LLC</span></span></strong><br />\n<br />\n<span style="font-size:14px\;"><span style="color:#008000\;"><strong>Platinum Sponsors:</strong></span></span>&nbsp\;&nbsp\;&nbsp\;&nbsp\;&nbsp\;&nbsp\;&nbsp\;&nbsp\;<span style="font-size:14px\;"><span style="color:#008000\;"><strong>JJ Supply Partners\, Inc.</strong></span></span><br />\n&nbsp\;&nbsp\;&nbsp\;&nbsp\;&nbsp\;&nbsp\;&nbsp\;&nbsp\;&nbsp\;&nbsp\;&nbsp\;&nbsp\;&nbsp\;&nbsp\;&nbsp\;&nbsp\;&nbsp\;&nbsp\;&nbsp\;&nbsp\;&nbsp\;&nbsp\;&nbsp\;&nbsp\;&nbsp\;&nbsp\;&nbsp\;&nbsp\;&nbsp\;&nbsp\;&nbsp\; &nbsp\;&nbsp\;&nbsp\;&nbsp\;&nbsp\;&nbsp\;&nbsp\;&nbsp\;&nbsp\; <span style="font-size:14px\;"><span style="color:#008000\;"><strong>Lisle Savings Bank<br />\n&nbsp\;&nbsp\;&nbsp\;&nbsp\;&nbsp\;&nbsp\;&nbsp\;&nbsp\;&nbsp\;&nbsp\;&nbsp\;&nbsp\;&nbsp\;&nbsp\;&nbsp\;&nbsp\;&nbsp\;&nbsp\;&nbsp\;&nbsp\;&nbsp\;&nbsp\;&nbsp\;&nbsp\;&nbsp\;&nbsp\;&nbsp\;&nbsp\;&nbsp\;&nbsp\;&nbsp\;&nbsp\;&nbsp\;&nbsp\; </strong></span></span>&nbsp\;&nbsp\;&nbsp\;&nbsp\;&nbsp\;&nbsp\;&nbsp\;&nbsp\;<span style="font-size:14px\;"><span style="color:#008000\;"><strong>Marquette Companies</strong></span></span><br />\n<br />\n<span style="color:#008000\;"><span style="font-size:16px\;"><span style="font-size:14px\;"><strong>Beverage Cart Sponsor: Emerge Wealth Strategies<br />\nFace Mask Sponsor: IRVINE Group at john greene Realtor<br />\nPutting Green Sponsor: Your Story Counseling\, P.C.<br />\n<br />\nHole Sponsors:&nbsp\;&nbsp\;<br />\nAdvanced Imaging\, Inc.<br />\nBankFinancial<br />\nCulver&#39\;s Downers Grove/Lisle<br />\nCynthia Brown - Farmers Insurance<br />\nElite Remodeling Group<br />\nThe Hire Solution<br />\nHonda of Lisle<br />\nHumidor of Lisle<br />\nIRVINE Group at john greene Realtor<br />\nMidwest Auto Body of Lisle<br />\nPaisan&#39\;s Pizzeria &amp\; Bar<br />\nVilla St. Benedict<br />\nWilliams Chiropractic Center<br />\nYour Story Counseling\, P.C.<br />\n<br />\nTee Bag Items Donated By:<br />\nBankFinancial<br />\nEmerge Wealth Strategies<br />\nFour Lakes Recreation<br />\nThe Hire Solution<br />\nHonda of Lisle<br />\nIrvine Group at john greene Realtor<br />\nMidwest Auto Body of Lisle</strong></span></span></span>
LOCATION:Seven Bridges Golf Club 1 Mulligan Drive Woodridge\, IL 60517
UID:e.27.12499
SEQUENCE:3
DTSTAMP:20260421T134950Z
URL:http://business.lislechamber.com/events/details/2021-annual-golf-outing-12499
END:VEVENT

END:VCALENDAR
